BEGIN:VCALENDAR
VERSION:2.0
PRODID:-//The Leadmill - ECPv6.15.19//NONSGML v1.0//EN
CALSCALE:GREGORIAN
METHOD:PUBLISH
X-ORIGINAL-URL:https://leadmill.co.uk
X-WR-CALDESC:Events for The Leadmill
REFRESH-INTERVAL;VALUE=DURATION:PT1H
X-Robots-Tag:noindex
X-PUBLISHED-TTL:PT1H
BEGIN:VTIMEZONE
TZID:Europe/London
BEGIN:DAYLIGHT
TZOFFSETFROM:+0000
TZOFFSETTO:+0100
TZNAME:BST
DTSTART:20240331T010000
END:DAYLIGHT
BEGIN:STANDARD
TZOFFSETFROM:+0100
TZOFFSETTO:+0000
TZNAME:GMT
DTSTART:20241027T010000
END:STANDARD
BEGIN:DAYLIGHT
TZOFFSETFROM:+0000
TZOFFSETTO:+0100
TZNAME:BST
DTSTART:20250330T010000
END:DAYLIGHT
BEGIN:STANDARD
TZOFFSETFROM:+0100
TZOFFSETTO:+0000
TZNAME:GMT
DTSTART:20251026T010000
END:STANDARD
BEGIN:DAYLIGHT
TZOFFSETFROM:+0000
TZOFFSETTO:+0100
TZNAME:BST
DTSTART:20260329T010000
END:DAYLIGHT
BEGIN:STANDARD
TZOFFSETFROM:+0100
TZOFFSETTO:+0000
TZNAME:GMT
DTSTART:20261025T010000
END:STANDARD
END:VTIMEZONE
BEGIN:VEVENT
DTSTART;TZID=Europe/London:20250624T190000
DTEND;TZID=Europe/London:20250624T230000
DTSTAMP:20260421T092617
CREATED:20250605T110044Z
LAST-MODIFIED:20250606T074120Z
UID:36967-1750791600-1750806000@leadmill.co.uk
SUMMARY:Dinosaur Pile-Up plus HotWax - The Leadmill Final Shows
DESCRIPTION:Yorkshire’s hard rock heroes Dinosaur Pile-Up play an exclusive headliner as one of The Leadmill’s final shows\, with very special guests Hotwax. \n \n  \n  \n  \n 
URL:https://leadmill.co.uk/event/dinosaur-pile-up-the-leadmill-final-shows/
LOCATION:The Leadmill\, 6 Leadmill Rd\, Sheffield\, United Kingdom (UK)\, S1 4SE\, United Kingdom
CATEGORIES:Final Ever Events At The Leadmill,Live,On Sale Today
ATTACH;FMTTYPE=image/jpeg:https://leadmill.co.uk/wp-content/uploads/2025/06/Dinosaur-Pile-Up-Website.jpg
ORGANIZER;CN="The Leadmill":MAILTO:info@leadmill.co.uk
GEO:53.3762755;-1.4649947
X-APPLE-STRUCTURED-LOCATION;VALUE=URI;X-ADDRESS=The Leadmill 6 Leadmill Rd Sheffield United Kingdom (UK) S1 4SE United Kingdom;X-APPLE-RADIUS=500;X-TITLE=6 Leadmill Rd:geo:-1.4649947,53.3762755
END:VEVENT
BEGIN:VEVENT
DTSTART;TZID=Europe/London:20250623T204500
DTEND;TZID=Europe/London:20250623T233000
DTSTAMP:20260421T092617
CREATED:20250606T110027Z
LAST-MODIFIED:20250606T103530Z
UID:37011-1750711500-1750721400@leadmill.co.uk
SUMMARY:Adam Rowe & Dan Nightingale: An Hour(ish) Each (Late Show)
DESCRIPTION:Late Show Added Due to Phenomenal Demand! \nAdam Rowe & Dan Nightingale are both absolutely gutted to see The Leadmill close and were desperate to do one last show here before that happens. \nThis is the rare occasion where you can see them in a double-headline format\, both of them trying between 40 and 60 minutes of new stuff\, old stuff and everything in between as they work towards their huge 2026 tours.
URL:https://leadmill.co.uk/event/adam-dan-late-show/
LOCATION:The Leadmill\, 6 Leadmill Rd\, Sheffield\, United Kingdom (UK)\, S1 4SE\, United Kingdom
CATEGORIES:Comedy,Final Ever Events At The Leadmill,On Sale Today
ATTACH;FMTTYPE=image/jpeg:https://leadmill.co.uk/wp-content/uploads/2025/06/Dan-Adam-Website.jpg
ORGANIZER;CN="The Leadmill":MAILTO:info@leadmill.co.uk
GEO:53.3762755;-1.4649947
X-APPLE-STRUCTURED-LOCATION;VALUE=URI;X-ADDRESS=The Leadmill 6 Leadmill Rd Sheffield United Kingdom (UK) S1 4SE United Kingdom;X-APPLE-RADIUS=500;X-TITLE=6 Leadmill Rd:geo:-1.4649947,53.3762755
END:VEVENT
BEGIN:VEVENT
DTSTART;TZID=Europe/London:20250623T173000
DTEND;TZID=Europe/London:20250623T201500
DTSTAMP:20260421T092617
CREATED:20250605T155039Z
LAST-MODIFIED:20250606T103333Z
UID:36975-1750699800-1750709700@leadmill.co.uk
SUMMARY:Adam Rowe & Dan Nightingale: An Hour(ish) Each
DESCRIPTION:Adam Rowe & Dan Nightingale are both absolutely gutted to see The Leadmill close and were desperate to do one last show here before that happens. \nThis is the rare occasion where you can see them in a double-headline format\, both of them trying between 40 and 60 minutes of new stuff\, old stuff and everything in between as they work towards their huge 2026 tours.
URL:https://leadmill.co.uk/event/adam-rowe-dan-nightingale-an-hourish-each/
LOCATION:The Leadmill\, 6 Leadmill Rd\, Sheffield\, United Kingdom (UK)\, S1 4SE\, United Kingdom
CATEGORIES:Comedy,Final Ever Events At The Leadmill,On Sale Today
ATTACH;FMTTYPE=image/jpeg:https://leadmill.co.uk/wp-content/uploads/2025/06/Dan-Adam-Website.jpg
ORGANIZER;CN="The Leadmill":MAILTO:info@leadmill.co.uk
GEO:53.3762755;-1.4649947
X-APPLE-STRUCTURED-LOCATION;VALUE=URI;X-ADDRESS=The Leadmill 6 Leadmill Rd Sheffield United Kingdom (UK) S1 4SE United Kingdom;X-APPLE-RADIUS=500;X-TITLE=6 Leadmill Rd:geo:-1.4649947,53.3762755
END:VEVENT
BEGIN:VEVENT
DTSTART;TZID=Europe/London:20250621T230000
DTEND;TZID=Europe/London:20250622T040000
DTSTAMP:20260421T092617
CREATED:20250605T143710Z
LAST-MODIFIED:20250605T143710Z
UID:36991-1750546800-1750564800@leadmill.co.uk
SUMMARY:The Final Dreams at The Leadmill
DESCRIPTION:Fleetwood Mac fans\, this ones for you! The ultimate 70s club night returns one last time. \nJoin us as we pay homage to one of the most loved rock bands of all time and celebrate the iconic era of the 70’s. \nUnleash your inner rock ‘n’ roller with the legendary sounds of Fleetwood Mac\, at Dreams – a night that’s all about good vibes and even better beats. \nExpect to hear all of the bands biggest hits from across the decades\, including The Chain\, Gypsy\, Oh Well\, Dreams\, Little Lies and all the rest of their ultimate classics. \nSo dig out your bell-bottoms\, feather those hairdos\, and unleash your inner disco diva for a throwback night like no other. \nExpect to hear: \nFleetwood Mac / Stevie Nicks / ELO / Blondie / David Bowie / Elton John / Chic / Bee Gees / Queen / The Beatles / Steely Dan / Donna Summer / Earth\, Wind & Fire / T Rex / Boney M / Prince and loads more \nLimited number of discounted £4 tickets on sale now! \n================================================================ \nPlus we’ll be serving up the best drinks deals in town! \nWe also have a range of non alcoholic drinks at all of our bars. \nAll drink offers available with a regulars card\, available behind the bar for only £5! You can make your money back in one round. \nThis is an 18+ club night event.
URL:https://leadmill.co.uk/event/the-final-dreams-at-the-leadmill/
LOCATION:The Leadmill\, 6 Leadmill Rd\, Sheffield\, United Kingdom (UK)\, S1 4SE\, United Kingdom
CATEGORIES:Club Night,Final Ever Events At The Leadmill,SONIC Saturday
ATTACH;FMTTYPE=image/jpeg:https://leadmill.co.uk/wp-content/uploads/2025/06/Dreams-WEB-23.02.jpg
ORGANIZER;CN="The Leadmill":MAILTO:info@leadmill.co.uk
GEO:53.3762755;-1.4649947
X-APPLE-STRUCTURED-LOCATION;VALUE=URI;X-ADDRESS=The Leadmill 6 Leadmill Rd Sheffield United Kingdom (UK) S1 4SE United Kingdom;X-APPLE-RADIUS=500;X-TITLE=6 Leadmill Rd:geo:-1.4649947,53.3762755
END:VEVENT
BEGIN:VEVENT
DTSTART;TZID=Europe/London:20250618T190000
DTEND;TZID=Europe/London:20250618T230000
DTSTAMP:20260421T092617
CREATED:20250606T160024Z
LAST-MODIFIED:20250606T132609Z
UID:37018-1750273200-1750287600@leadmill.co.uk
SUMMARY:Richard Hawley - The Leadmill Final Shows
DESCRIPTION:One final time with the man who has played here more times than anyone else – Sheffield icon and Leadmill family member Richard Hawley joins us for one last show this June.
URL:https://leadmill.co.uk/event/richard-hawley-the-leadmill-final-shows/
LOCATION:The Leadmill\, 6 Leadmill Rd\, Sheffield\, United Kingdom (UK)\, S1 4SE\, United Kingdom
CATEGORIES:Final Ever Events At The Leadmill,Live
ATTACH;FMTTYPE=image/jpeg:https://leadmill.co.uk/wp-content/uploads/2025/06/Richard-Hawley-Website.jpg
ORGANIZER;CN="The Leadmill":MAILTO:info@leadmill.co.uk
GEO:53.3762755;-1.4649947
X-APPLE-STRUCTURED-LOCATION;VALUE=URI;X-ADDRESS=The Leadmill 6 Leadmill Rd Sheffield United Kingdom (UK) S1 4SE United Kingdom;X-APPLE-RADIUS=500;X-TITLE=6 Leadmill Rd:geo:-1.4649947,53.3762755
END:VEVENT
BEGIN:VEVENT
DTSTART;TZID=Europe/London:20250617T190000
DTEND;TZID=Europe/London:20250617T223000
DTSTAMP:20260421T092617
CREATED:20250605T080054Z
LAST-MODIFIED:20250605T154257Z
UID:36886-1750186800-1750199400@leadmill.co.uk
SUMMARY:Twin Atlantic plus Dead Pony and Jetski - The Leadmill Final Shows
DESCRIPTION:Scottish rock titans Twin Atlantic have played some of our most memorable shows ever – it only seems fitting to have them back for one last Leadmill blow out this June.
URL:https://leadmill.co.uk/event/twin-atlantic/
LOCATION:The Leadmill\, 6 Leadmill Rd\, Sheffield\, United Kingdom (UK)\, S1 4SE\, United Kingdom
CATEGORIES:Final Ever Events At The Leadmill,Live,On Sale Today
ATTACH;FMTTYPE=image/jpeg:https://leadmill.co.uk/wp-content/uploads/2023/12/Twin-Atlantic-Website-1.jpg
ORGANIZER;CN="The Leadmill":MAILTO:info@leadmill.co.uk
GEO:53.3762755;-1.4649947
X-APPLE-STRUCTURED-LOCATION;VALUE=URI;X-ADDRESS=The Leadmill 6 Leadmill Rd Sheffield United Kingdom (UK) S1 4SE United Kingdom;X-APPLE-RADIUS=500;X-TITLE=6 Leadmill Rd:geo:-1.4649947,53.3762755
END:VEVENT
BEGIN:VEVENT
DTSTART;TZID=Europe/London:20250616T190000
DTEND;TZID=Europe/London:20250616T223000
DTSTAMP:20260421T092617
CREATED:20250611T090054Z
LAST-MODIFIED:20250611T073352Z
UID:37060-1750100400-1750113000@leadmill.co.uk
SUMMARY:Richard Hawley - The Leadmill Final Shows (Extra Date Added)
DESCRIPTION:And again with the man who has played here more times than anyone else – Sheffield icon and Leadmill family member Richard Hawley joins us for two final shows this June. \n \n 
URL:https://leadmill.co.uk/event/richard-hawley/
LOCATION:The Leadmill\, 6 Leadmill Rd\, Sheffield\, United Kingdom (UK)\, S1 4SE\, United Kingdom
CATEGORIES:Final Ever Events At The Leadmill,Live
ATTACH;FMTTYPE=image/jpeg:https://leadmill.co.uk/wp-content/uploads/2025/06/Richard-Hawley-Website.jpg
ORGANIZER;CN="The Leadmill":MAILTO:info@leadmill.co.uk
GEO:53.3762755;-1.4649947
X-APPLE-STRUCTURED-LOCATION;VALUE=URI;X-ADDRESS=The Leadmill 6 Leadmill Rd Sheffield United Kingdom (UK) S1 4SE United Kingdom;X-APPLE-RADIUS=500;X-TITLE=6 Leadmill Rd:geo:-1.4649947,53.3762755
END:VEVENT
END:VCALENDAR